BEGIN:VCALENDAR
VERSION:2.0
PRODID:-//Lucky Flow - ECPv6.15.20//NONSGML v1.0//EN
CALSCALE:GREGORIAN
METHOD:PUBLISH
X-WR-CALNAME:Lucky Flow
X-ORIGINAL-URL:https://luckyflow.com
X-WR-CALDESC:Events for Lucky Flow
REFRESH-INTERVAL;VALUE=DURATION:PT1H
X-Robots-Tag:noindex
X-PUBLISHED-TTL:PT1H
BEGIN:VTIMEZONE
TZID:America/Halifax
BEGIN:DAYLIGHT
TZOFFSETFROM:-0400
TZOFFSETTO:-0300
TZNAME:ADT
DTSTART:20250309T060000
END:DAYLIGHT
BEGIN:STANDARD
TZOFFSETFROM:-0300
TZOFFSETTO:-0400
TZNAME:AST
DTSTART:20251102T050000
END:STANDARD
BEGIN:DAYLIGHT
TZOFFSETFROM:-0400
TZOFFSETTO:-0300
TZNAME:ADT
DTSTART:20260308T060000
END:DAYLIGHT
BEGIN:STANDARD
TZOFFSETFROM:-0300
TZOFFSETTO:-0400
TZNAME:AST
DTSTART:20261101T050000
END:STANDARD
BEGIN:DAYLIGHT
TZOFFSETFROM:-0400
TZOFFSETTO:-0300
TZNAME:ADT
DTSTART:20270314T060000
END:DAYLIGHT
BEGIN:STANDARD
TZOFFSETFROM:-0300
TZOFFSETTO:-0400
TZNAME:AST
DTSTART:20271107T050000
END:STANDARD
END:VTIMEZONE
BEGIN:VEVENT
DTSTART;TZID=America/Halifax:20260711T123000
DTEND;TZID=America/Halifax:20260711T133000
DTSTAMP:20260424T152559
CREATED:20260404T141452Z
LAST-MODIFIED:20260424T141413Z
UID:9522-1783773000-1783776600@luckyflow.com
SUMMARY:Qi Gong- An Ancient Art
DESCRIPTION:Join Lucky Flow for a transformative Holistic Wellness Retreat where we will focus on healing the mind\, body\, and soul. Dive into topics such as philosophy\, alternative medicine\, holistic health\, and healthy lifestyle practices. Experience the ancient art of Qi Gong\, learn about the benefits of acupuncture & oriental medicine\, and discover stress relief techniques. This retreat is designed for individuals seeking a holistic approach to wellness and self-improvement.\nConnect with like-minded individuals in our community\, engage in social networking\, and empower yourself with knowledge and tools for a healthier and happier life. Whether you are a holistic mom looking for support or simply interested in natural health and wellness\, this event is sure to inspire and rejuvenate you. Embrace a holistic approach to healthy living and join us on this journey towards healing and self-discovery.\nFirst Class – FREE\n1 Class – $20\n8 Class Pack – $120
URL:https://luckyflow.com/event/qi-gong-an-ancient-art-11/
LOCATION:Lucky Flow Acupuncture\, 19244 Newburgh Rd\, Livonia\, MI\, 48152\, US
ATTACH;FMTTYPE=image/jpeg:https://luckyflow.com/wp-content/uploads/2026/04/9513_image_highres_533523974.jpeg
ORGANIZER;CN="Lucky Flow%3A Health and Wellness Events":MAILTO:meetup-group-lflzwadm-announce@messages.meetup.com
END:VEVENT
BEGIN:VEVENT
DTSTART;TZID=America/Halifax:20260725T123000
DTEND;TZID=America/Halifax:20260725T133000
DTSTAMP:20260424T152559
CREATED:20260404T141453Z
LAST-MODIFIED:20260424T141413Z
UID:9523-1784982600-1784986200@luckyflow.com
SUMMARY:Qi Gong- An Ancient Art
DESCRIPTION:Join Lucky Flow for a transformative Holistic Wellness Retreat where we will focus on healing the mind\, body\, and soul. Dive into topics such as philosophy\, alternative medicine\, holistic health\, and healthy lifestyle practices. Experience the ancient art of Qi Gong\, learn about the benefits of acupuncture & oriental medicine\, and discover stress relief techniques. This retreat is designed for individuals seeking a holistic approach to wellness and self-improvement.\nConnect with like-minded individuals in our community\, engage in social networking\, and empower yourself with knowledge and tools for a healthier and happier life. Whether you are a holistic mom looking for support or simply interested in natural health and wellness\, this event is sure to inspire and rejuvenate you. Embrace a holistic approach to healthy living and join us on this journey towards healing and self-discovery.\nFirst Class – FREE\n1 Class – $20\n8 Class Pack – $120
URL:https://luckyflow.com/event/qi-gong-an-ancient-art-12/
LOCATION:Lucky Flow Acupuncture\, 19244 Newburgh Rd\, Livonia\, MI\, 48152\, US
ATTACH;FMTTYPE=image/jpeg:https://luckyflow.com/wp-content/uploads/2026/04/9513_image_highres_533523974.jpeg
ORGANIZER;CN="Lucky Flow%3A Health and Wellness Events":MAILTO:meetup-group-lflzwadm-announce@messages.meetup.com
END:VEVENT
END:VCALENDAR