BEGIN:VCALENDAR
VERSION:2.0
PRODID:-//Lucky Flow - ECPv6.15.20//NONSGML v1.0//EN
CALSCALE:GREGORIAN
METHOD:PUBLISH
X-ORIGINAL-URL:https://luckyflow.com
X-WR-CALDESC:Events for Lucky Flow
REFRESH-INTERVAL;VALUE=DURATION:PT1H
X-Robots-Tag:noindex
X-PUBLISHED-TTL:PT1H
BEGIN:VTIMEZONE
TZID:America/New_York
BEGIN:DAYLIGHT
TZOFFSETFROM:-0500
TZOFFSETTO:-0400
TZNAME:EDT
DTSTART:20240310T070000
END:DAYLIGHT
BEGIN:STANDARD
TZOFFSETFROM:-0400
TZOFFSETTO:-0500
TZNAME:EST
DTSTART:20241103T060000
END:STANDARD
BEGIN:DAYLIGHT
TZOFFSETFROM:-0500
TZOFFSETTO:-0400
TZNAME:EDT
DTSTART:20250309T070000
END:DAYLIGHT
BEGIN:STANDARD
TZOFFSETFROM:-0400
TZOFFSETTO:-0500
TZNAME:EST
DTSTART:20251102T060000
END:STANDARD
BEGIN:DAYLIGHT
TZOFFSETFROM:-0500
TZOFFSETTO:-0400
TZNAME:EDT
DTSTART:20260308T070000
END:DAYLIGHT
BEGIN:STANDARD
TZOFFSETFROM:-0400
TZOFFSETTO:-0500
TZNAME:EST
DTSTART:20261101T060000
END:STANDARD
END:VTIMEZONE
BEGIN:VTIMEZONE
TZID:America/Detroit
BEGIN:DAYLIGHT
TZOFFSETFROM:-0500
TZOFFSETTO:-0400
TZNAME:EDT
DTSTART:20210314T070000
END:DAYLIGHT
BEGIN:STANDARD
TZOFFSETFROM:-0400
TZOFFSETTO:-0500
TZNAME:EST
DTSTART:20211107T060000
END:STANDARD
BEGIN:DAYLIGHT
TZOFFSETFROM:-0500
TZOFFSETTO:-0400
TZNAME:EDT
DTSTART:20220313T070000
END:DAYLIGHT
BEGIN:STANDARD
TZOFFSETFROM:-0400
TZOFFSETTO:-0500
TZNAME:EST
DTSTART:20221106T060000
END:STANDARD
BEGIN:DAYLIGHT
TZOFFSETFROM:-0500
TZOFFSETTO:-0400
TZNAME:EDT
DTSTART:20230312T070000
END:DAYLIGHT
BEGIN:STANDARD
TZOFFSETFROM:-0400
TZOFFSETTO:-0500
TZNAME:EST
DTSTART:20231105T060000
END:STANDARD
BEGIN:DAYLIGHT
TZOFFSETFROM:-0500
TZOFFSETTO:-0400
TZNAME:EDT
DTSTART:20240310T070000
END:DAYLIGHT
BEGIN:STANDARD
TZOFFSETFROM:-0400
TZOFFSETTO:-0500
TZNAME:EST
DTSTART:20241103T060000
END:STANDARD
END:VTIMEZONE
BEGIN:VEVENT
DTSTART;TZID=America/New_York:20251106T120100
DTEND;TZID=America/New_York:20251106T130100
DTSTAMP:20260424T170315
CREATED:20251202T155651Z
LAST-MODIFIED:20251202T155651Z
UID:9157-1762430460-1762434060@luckyflow.com
SUMMARY:Qi Gong- An Ancient Art
DESCRIPTION:1 Class – $20\n8 Class Pack – $120 \nJoin Lucky Flow for a transformative Holistic Wellness Retreat where we will focus on healing the mind\, body\, and soul. Dive into topics such as philosophy\, alternative medicine\, holistic health\, and healthy lifestyle practices. Experience the ancient art of Qi Gong\, learn about the benefits of acupuncture & oriental medicine\, and discover stress relief techniques. This retreat is designed for individuals seeking a holistic approach to wellness and self-improvement. \nConnect with like-minded individuals in our community\, engage in social networking\, and empower yourself with knowledge and tools for a healthier and happier life. Whether you are a holistic mom looking for support or simply interested in natural health and wellness\, this event is sure to inspire and rejuvenate you. Embrace a holistic approach to healthy living and join us on this journey towards healing and self-discovery.
URL:https://luckyflow.com/event/qi-gong-an-ancient-art-5/
LOCATION:Lucky Flow Acupuncture\, 19244 Newburgh Rd\, Livonia\, MI\, 48152\, US
ATTACH;FMTTYPE=image/jpeg:https://luckyflow.com/wp-content/uploads/2025/11/9157_image_highres_530780104.jpeg
ORGANIZER;CN="Lucky Flow%3A Health and Wellness Events":MAILTO:meetup-group-lflzwadm-announce@messages.meetup.com
END:VEVENT
BEGIN:VEVENT
DTSTART;TZID=America/Detroit:20230506T130000
DTEND;TZID=America/Detroit:20230506T150000
DTSTAMP:20260424T170315
CREATED:20251202T155652Z
LAST-MODIFIED:20251202T155652Z
UID:2643-1683378000-1683385200@luckyflow.com
SUMMARY:Summer 101
DESCRIPTION:Summer 101 with Lucky Flow Acupuncture\n\n\nGetting regular acupuncture treatments especially during the summer is a great way to maintain balance through the warm season. Acupuncture helps proper circulation and regulates internal body temperature. Learn more about how acupuncture can benefit you at our summer 101 event. Contact us for more information.
URL:https://luckyflow.com/event/summer-101/
ATTACH;FMTTYPE=image/jpeg:https://luckyflow.com/wp-content/uploads/2023/04/2643_image_original-1.jpg
END:VEVENT
BEGIN:VEVENT
DTSTART;TZID=America/Detroit:20220326T130000
DTEND;TZID=America/Detroit:20220326T140000
DTSTAMP:20260424T170315
CREATED:20251202T155652Z
LAST-MODIFIED:20251202T155652Z
UID:4791-1648299600-1648303200@luckyflow.com
SUMMARY:Women's Health
DESCRIPTION:with Dr. Lucky & Guest Speaker: Luba Khakham
URL:https://luckyflow.com/event/womens-health/
ATTACH;FMTTYPE=image/png:https://luckyflow.com/wp-content/uploads/2022/02/Chinese-Energetics-with-Lucky-Guest-Speaker-Karyn-Kokeny-1-1.png
END:VEVENT
BEGIN:VEVENT
DTSTART;TZID=America/Detroit:20220319T130000
DTEND;TZID=America/Detroit:20220319T150000
DTSTAMP:20260424T170315
CREATED:20251202T155652Z
LAST-MODIFIED:20251202T155652Z
UID:1822-1647694800-1647702000@luckyflow.com
SUMMARY:Fire Cupping Certification
DESCRIPTION:Cost: $395 \nLearn the ancient art of Fire Cupping \nMarch 19\, 2022 at 1PM at Lucky Flow Acupuncture \nMaterials Provided\, and yours to keep\nCall to Register: (734) 266-8288
URL:https://luckyflow.com/event/fire-cupping-certification/
CATEGORIES:Certification
ATTACH;FMTTYPE=image/png:https://luckyflow.com/wp-content/uploads/2022/01/Chinese-Energetics-with-Lucky-Guest-Speaker-Karyn-Kokeny-2-1.png
END:VEVENT
BEGIN:VEVENT
DTSTART;TZID=America/Detroit:20220312T130000
DTEND;TZID=America/Detroit:20220312T140000
DTSTAMP:20260424T170315
CREATED:20251202T155652Z
LAST-MODIFIED:20251202T155652Z
UID:4795-1647090000-1647093600@luckyflow.com
SUMMARY:Chinese Energetics with Dr. Lucky & Guest Speaker: Karyn Kokeny
DESCRIPTION:Offline\nWe will go over\n\nUnderstanding frequency/energy medicine\nWhy frequencies matter and how they work\nGood versus harmful frequencies\nSymptoms of Electromagnetic Stress\nRevolutionary solutions for protection and self-care\n\nMarch 12\, 2022 @1PM at Lucky Flow Acupunctire\nCall to Learn more\n(734) 266-8288
URL:https://luckyflow.com/event/chinese-energetics-with-dr-lucky-guest-speaker-karyn-kokeny/
ATTACH;FMTTYPE=image/png:https://luckyflow.com/wp-content/uploads/2022/01/Chinese-Energetics-with-Lucky-Guest-Speaker-Karyn-Kokeny-1.png
END:VEVENT
BEGIN:VEVENT
DTSTART;TZID=America/Detroit:20220129T080000
DTEND;TZID=America/Detroit:20220129T170000
DTSTAMP:20260424T170315
CREATED:20251202T155651Z
LAST-MODIFIED:20251202T155651Z
UID:1656-1643443200-1643475600@luckyflow.com
SUMMARY:Healing Workshop
DESCRIPTION:Please register for our upcoming event. Learn new concepts to bring wellness to your patients.
URL:https://luckyflow.com/event/healing-workshop/
ATTACH;FMTTYPE=image/png:https://luckyflow.com/wp-content/uploads/2022/01/Lucky-flow-workshop-example-1.png
END:VEVENT
END:VCALENDAR