BEGIN:VCALENDAR
VERSION:2.0
PRODID:-//Lucky Flow - ECPv6.15.20//NONSGML v1.0//EN
CALSCALE:GREGORIAN
METHOD:PUBLISH
X-WR-CALNAME:Lucky Flow
X-ORIGINAL-URL:https://luckyflow.com
X-WR-CALDESC:Events for Lucky Flow
REFRESH-INTERVAL;VALUE=DURATION:PT1H
X-Robots-Tag:noindex
X-PUBLISHED-TTL:PT1H
BEGIN:VTIMEZONE
TZID:America/Halifax
BEGIN:DAYLIGHT
TZOFFSETFROM:-0400
TZOFFSETTO:-0300
TZNAME:ADT
DTSTART:20250309T060000
END:DAYLIGHT
BEGIN:STANDARD
TZOFFSETFROM:-0300
TZOFFSETTO:-0400
TZNAME:AST
DTSTART:20251102T050000
END:STANDARD
BEGIN:DAYLIGHT
TZOFFSETFROM:-0400
TZOFFSETTO:-0300
TZNAME:ADT
DTSTART:20260308T060000
END:DAYLIGHT
BEGIN:STANDARD
TZOFFSETFROM:-0300
TZOFFSETTO:-0400
TZNAME:AST
DTSTART:20261101T050000
END:STANDARD
BEGIN:DAYLIGHT
TZOFFSETFROM:-0400
TZOFFSETTO:-0300
TZNAME:ADT
DTSTART:20270314T060000
END:DAYLIGHT
BEGIN:STANDARD
TZOFFSETFROM:-0300
TZOFFSETTO:-0400
TZNAME:AST
DTSTART:20271107T050000
END:STANDARD
END:VTIMEZONE
BEGIN:VEVENT
DTSTART;TZID=America/Halifax:20260424T183000
DTEND;TZID=America/Halifax:20260424T193000
DTSTAMP:20260424T170730
CREATED:20260305T141601Z
LAST-MODIFIED:20260424T141411Z
UID:9467-1777055400-1777059000@luckyflow.com
SUMMARY:Rest & Resonance - sound bath healing w/optional acupuncture
DESCRIPTION:Rest & Resonance: A Sound Bath Yoga Nida Reiki Meditation with Optional Acupuncture \nRegister directly through Lucky Flow Acupuncture Below:\n(Choose 1 Option):\n• $40.00 — Sound Bath Yoga Nidra Reiki Meditation (Only)\n• $60.00 — Sound Bath Reiki Meditation w/ Acupuncture Add On\nStep into a sacred evening of sensory restoration\, where breath becomes medicine and vibration becomes a portal to healing.\nFeaturing Lisa Harthun of Healing Balance Holistic Wellness Therapy who will guide you through a deeply nourishing Yoga Nidra meditation\, gentle breathwork\, and an expansive sound bath experience with singing bowls\, gong\, tingsha\, and drum while channeling Reiki energy to participants. This journey invites the nervous system to unwind and the spirit to soften.\nAs the body relaxes into resonance\, attendees may opt receive an optional supportive acupuncture session\, for a small additional fee\, offered in harmony with the sound healing. This gentle pairing amplifies the body’s natural healing response\, enhancing Qi circulation and emotional release. Together\, these modalities encourage deep rest\, cellular regeneration\, and energetic balance. \nThis gathering is ideal for anyone seeking:\n• Nervous system recalibration\n• Emotional and energetic release\n• Gentle integration through vibration and meridian stimulation\n• Restorative sleep and immune support\n• Inner Peace and overall well-being \nDate & Time: Friday\, 4/24/26 @ 6:30pm-8:00pm \nLocation: Lucky Flow Acupuncture 19244 Newburgh Rd.\, Livonia\, MI 48152\n*Space is intentionally limited to preserve the sacred container. All are welcome—just as you are. All are welcome! \nAttendance & Refund Policy: To preserve the integrity of the meditative experience for all\, we kindly ask that guests arrive on time. Doors will close promptly at 6:35 PM\, and late arrivals will not be admitted. All ticket sales are final\, and refunds will not be issued for late arrival or missed attendance.\nFor More Information Contact: (734) 469-9149 or Contact@luckyflow.com
URL:https://luckyflow.com/event/rest-resonance-sound-bath-healing-w-optional-acupuncture-2/
LOCATION:Lucky Flow Acupuncture\, 19244 Newburgh Rd\, Livonia\, MI\, 48152\, US
ATTACH;FMTTYPE=image/jpeg:https://luckyflow.com/wp-content/uploads/2026/03/9467_image_highres_533035261.jpeg
ORGANIZER;CN="Lucky Flow%3A Health and Wellness Events":MAILTO:meetup-group-lflzwadm-announce@messages.meetup.com
END:VEVENT
END:VCALENDAR